BEGIN:VCALENDAR
VERSION:2.0
PRODID:-//WHIRL band - ECPv6.15.20//NONSGML v1.0//EN
CALSCALE:GREGORIAN
METHOD:PUBLISH
X-WR-CALNAME:WHIRL band
X-ORIGINAL-URL:https://whirl.live
X-WR-CALDESC:Events for WHIRL band
REFRESH-INTERVAL;VALUE=DURATION:PT1H
X-Robots-Tag:noindex
X-PUBLISHED-TTL:PT1H
BEGIN:VTIMEZONE
TZID:UTC
BEGIN:STANDARD
TZOFFSETFROM:+0000
TZOFFSETTO:+0000
TZNAME:UTC
DTSTART:20250101T000000
END:STANDARD
END:VTIMEZONE
BEGIN:VEVENT
DTSTART;TZID=UTC:20260515T193000
DTEND;TZID=UTC:20260515T230000
DTSTAMP:20260420T125005
CREATED:20260206T024150Z
LAST-MODIFIED:20260206T024439Z
UID:293-1778873400-1778886000@whirl.live
SUMMARY:THE UGLY MUG - Canal Winchester\, OH
DESCRIPTION:
URL:https://whirl.live/index.php/event/the-ugly-mug-canal-winchester/
LOCATION:OH
END:VEVENT
BEGIN:VEVENT
DTSTART;TZID=UTC:20260522T190000
DTEND;TZID=UTC:20260522T230000
DTSTAMP:20260420T125005
CREATED:20260205T185144Z
LAST-MODIFIED:20260206T024219Z
UID:289-1779476400-1779490800@whirl.live
SUMMARY:PORT SMOKEHOUSE - Buckeye Lake
DESCRIPTION:
URL:https://whirl.live/index.php/event/port-smokehouse-buckeye-lake/
LOCATION:Port Smokehouse\, 9308 Township Rd 79\, Thornville\, OH\, 43076\, United States
END:VEVENT
BEGIN:VEVENT
DTSTART;TZID=UTC:20260530T190000
DTEND;TZID=UTC:20260530T230000
DTSTAMP:20260420T125005
CREATED:20260206T024405Z
LAST-MODIFIED:20260206T024405Z
UID:296-1780167600-1780182000@whirl.live
SUMMARY:WATERFRONT ON BUCKEYE LAKE - Thornville\, OH
DESCRIPTION:
URL:https://whirl.live/index.php/event/waterfront-on-buckeye-lake-thornville-oh/
LOCATION:Waterfront on Buckeye Lake\, 10055 Sunfish Ln\, Thornville\, OH\, 43076\, United States
END:VEVENT
BEGIN:VEVENT
DTSTART;TZID=UTC:20260605T183000
DTEND;TZID=UTC:20260605T213000
DTSTAMP:20260420T125005
CREATED:20260206T024541Z
LAST-MODIFIED:20260206T024541Z
UID:299-1780684200-1780695000@whirl.live
SUMMARY:HILLGARTEN - Hilliard\, OH
DESCRIPTION:
URL:https://whirl.live/index.php/event/hillgarten-hilliard-oh/
LOCATION:Hillgarten Beer & Wine Garden\, 4131 Main St\, Hilliard\, OH\, 43026\, United States
END:VEVENT
BEGIN:VEVENT
DTSTART;TZID=UTC:20260619T190000
DTEND;TZID=UTC:20260619T210000
DTSTAMP:20260420T125005
CREATED:20260206T040051Z
LAST-MODIFIED:20260206T040051Z
UID:301-1781895600-1781902800@whirl.live
SUMMARY:LANCASTER SUMMER SERIES - Lancaster\, OH
DESCRIPTION:
URL:https://whirl.live/index.php/event/lancaster-summer-series-lancaster-oh/
LOCATION:Lancaster Park\, Lancaster\, OH\, 43130\, United States
END:VEVENT
BEGIN:VEVENT
DTSTART;TZID=UTC:20260620T173000
DTEND;TZID=UTC:20260620T210000
DTSTAMP:20260420T125005
CREATED:20260206T040208Z
LAST-MODIFIED:20260206T040208Z
UID:303-1781976600-1781989200@whirl.live
SUMMARY:VERMILION BOAT CLUB - Vermilion\, OH
DESCRIPTION:
URL:https://whirl.live/index.php/event/vermilion-boat-club-vermilion-oh/
LOCATION:Vermilion Boat Club\, 5416 Liberty Ave\, Vermilion\, OH\, 44089\, United States
END:VEVENT
BEGIN:VEVENT
DTSTART;TZID=UTC:20260710T203000
DTEND;TZID=UTC:20260710T235900
DTSTAMP:20260420T125005
CREATED:20260210T033515Z
LAST-MODIFIED:20260210T033515Z
UID:312-1783715400-1783727940@whirl.live
SUMMARY:FENDERS - Westerville\, OH
DESCRIPTION:
URL:https://whirl.live/index.php/event/fenders-westerville-oh/
LOCATION:Fenders\, 8333 Market Exchange Dr\, Westerville\, OH\, 43081\, United States
END:VEVENT
BEGIN:VEVENT
DTSTART;TZID=UTC:20260725T183000
DTEND;TZID=UTC:20260725T223000
DTSTAMP:20260420T125005
CREATED:20260210T033752Z
LAST-MODIFIED:20260210T033752Z
UID:316-1785004200-1785018600@whirl.live
SUMMARY:HORVATH'S HARBOR - Buckeye Lake
DESCRIPTION:
URL:https://whirl.live/index.php/event/horvaths-harbor-buckeye-lake/
LOCATION:Horvath’s Harbor\, 14675 Zion Rd\, Thornville\, OH\, 43076\, United States
END:VEVENT
BEGIN:VEVENT
DTSTART;TZID=UTC:20260821T203000
DTEND;TZID=UTC:20260821T235900
DTSTAMP:20260420T125005
CREATED:20260210T033608Z
LAST-MODIFIED:20260210T033608Z
UID:314-1787344200-1787356740@whirl.live
SUMMARY:FENDERS - Westerville\, OH
DESCRIPTION:
URL:https://whirl.live/index.php/event/fenders-westerville-oh-2/
LOCATION:Fenders\, 8333 Market Exchange Dr\, Westerville\, OH\, 43081\, United States
END:VEVENT
BEGIN:VEVENT
DTSTART;TZID=UTC:20260829T183000
DTEND;TZID=UTC:20260829T213000
DTSTAMP:20260420T125005
CREATED:20260210T034026Z
LAST-MODIFIED:20260210T034026Z
UID:320-1788028200-1788039000@whirl.live
SUMMARY:HILLGARTEN – Hilliard\, OH
DESCRIPTION:
URL:https://whirl.live/index.php/event/hillgarten-hilliard-oh-2/
LOCATION:Hillgarten Beer & Wine Garden\, 4131 Main St\, Hilliard\, OH\, 43026\, United States
END:VEVENT
BEGIN:VEVENT
DTSTART;VALUE=DATE:20260906
DTEND;VALUE=DATE:20260907
DTSTAMP:20260420T125005
CREATED:20260312T171840Z
LAST-MODIFIED:20260312T171840Z
UID:333-1788652800-1788739199@whirl.live
SUMMARY:SOBERFEST - Hilliard\, OH
DESCRIPTION:
URL:https://whirl.live/index.php/event/soberfest-hilliard-oh/
LOCATION:Soberfest\, 5043 Northwest Pkwy.\, Hilliard\, OH\, 43026\, United States
END:VEVENT
BEGIN:VEVENT
DTSTART;TZID=UTC:20260926T200000
DTEND;TZID=UTC:20260926T235900
DTSTAMP:20260420T125005
CREATED:20260312T172107Z
LAST-MODIFIED:20260312T172107Z
UID:335-1790452800-1790467140@whirl.live
SUMMARY:HEATH EAGLES - Newark\, OH
DESCRIPTION:
URL:https://whirl.live/index.php/event/heath-eagles-newark-oh/
LOCATION:Heath Eagles\, 1007 Hollander St\, Newark\, OH\, 43055\, United States
END:VEVENT
BEGIN:VEVENT
DTSTART;TZID=UTC:20261010T190000
DTEND;TZID=UTC:20261010T230000
DTSTAMP:20260420T125005
CREATED:20260210T033854Z
LAST-MODIFIED:20260210T033854Z
UID:318-1791658800-1791673200@whirl.live
SUMMARY:THE UGLY MUG – Canal Winchester\, OH
DESCRIPTION:
URL:https://whirl.live/index.php/event/the-ugly-mug-canal-winchester-oh/
LOCATION:The Ugly Mug\, 9645 Basil Western Rd NW\, Canal Winchester\, OH\, 43310\, United States
END:VEVENT
BEGIN:VEVENT
DTSTART;TZID=UTC:20261016T193000
DTEND;TZID=UTC:20261016T230000
DTSTAMP:20260420T125005
CREATED:20260210T034414Z
LAST-MODIFIED:20260210T034414Z
UID:324-1792179000-1792191600@whirl.live
SUMMARY:NEWARK MOOSE - Newark\, OH
DESCRIPTION:
URL:https://whirl.live/index.php/event/newark-moose-newark-oh/
LOCATION:Newark Moose\, 235 W National Dr\, Newark\, OH\, 43055\, United States
END:VEVENT
END:VCALENDAR